BEGIN:VCALENDAR
VERSION:2.0
PRODID:-//Jobfair - ECPv6.2.3//NONSGML v1.0//EN
CALSCALE:GREGORIAN
METHOD:PUBLISH
X-WR-CALNAME:Jobfair
X-ORIGINAL-URL:https://jobfair.pro
X-WR-CALDESC:Events for Jobfair
REFRESH-INTERVAL;VALUE=DURATION:PT1H
X-Robots-Tag:noindex
X-PUBLISHED-TTL:PT1H
BEGIN:VTIMEZONE
TZID:America/New_York
BEGIN:DAYLIGHT
TZOFFSETFROM:-0500
TZOFFSETTO:-0400
TZNAME:EDT
DTSTART:20190310T070000
END:DAYLIGHT
BEGIN:STANDARD
TZOFFSETFROM:-0400
TZOFFSETTO:-0500
TZNAME:EST
DTSTART:20191103T060000
END:STANDARD
END:VTIMEZONE
BEGIN:VEVENT
DTSTART;TZID=America/New_York:20190509T100000
DTEND;TZID=America/New_York:20190509T120000
DTSTAMP:20260423T004909
CREATED:20190503T174711Z
LAST-MODIFIED:20190503T174711Z
UID:179-1557396000-1557403200@jobfair.pro
SUMMARY:York County Welcome Home Job Fair\, Rock Hill SC
DESCRIPTION:Catawba SC Works will be hosting a job fair with 21 different employers at York Technical College’s Baxter Hood Center (375 S Anderson Rd\, Rock Hill\, SC). \nMilitary veterans will have can enter the event one hour earlier. Applicants can use a computer in loco to apply for a job before going to the interview. \nAmong the employers present at the even will be PCI Group\, York County’s Sheriff’s Office\, Adecco\, 3D Systems\, among others. \nDress professionally and bring several copies of your resume. If you need assistance\, SC Works will designate staff to help with resume and interview tips. All services will be provided to applicants at no cost. \nRead more on Herald Online. \nShare this:FacebookLinkedInWhatsAppPocketPrintPinterestRedditTumblrTwitterTelegram
URL:https://jobfair.pro/event/york-county-welcome-home-job-fair-rock-hill-sc/
LOCATION:York Technical College’s Baxter Hood Center\, 375 S Anderson Rd\, Rock Hill\, SC\, 29730\, United States
CATEGORIES:South Carolina
ATTACH;FMTTYPE=image/jpeg:https://jobfair.pro/wp-content/uploads/2019/05/sc-works.jpg
END:VEVENT
END:VCALENDAR