BEGIN:VCALENDAR
VERSION:2.0
PRODID:-//Jobfair - ECPv6.2.3//NONSGML v1.0//EN
CALSCALE:GREGORIAN
METHOD:PUBLISH
X-ORIGINAL-URL:https://jobfair.pro
X-WR-CALDESC:Events for Jobfair
REFRESH-INTERVAL;VALUE=DURATION:PT1H
X-Robots-Tag:noindex
X-PUBLISHED-TTL:PT1H
BEGIN:VTIMEZONE
TZID:America/Los_Angeles
BEGIN:DAYLIGHT
TZOFFSETFROM:-0800
TZOFFSETTO:-0700
TZNAME:PDT
DTSTART:20200308T100000
END:DAYLIGHT
BEGIN:STANDARD
TZOFFSETFROM:-0700
TZOFFSETTO:-0800
TZNAME:PST
DTSTART:20201101T090000
END:STANDARD
END:VTIMEZONE
BEGIN:VEVENT
DTSTART;TZID=America/Los_Angeles:20200402T110000
DTEND;TZID=America/Los_Angeles:20200402T150000
DTSTAMP:20260424T173429
CREATED:20200115T110839Z
LAST-MODIFIED:20200211T182848Z
UID:202-1585825200-1585839600@jobfair.pro
SUMMARY:Best Hire Career Fair Los Angeles
DESCRIPTION:Best Hire Career Fairs will be promoting at Holiday Inn Los Angeles\, close to LAX Airport\, on April 02 2020\, from 11am to 2pm. \nThe venue is located at 9901 South La Cienega Boulevard\,cali Los Angeles\, CA 90045. \nThere are jobs for applicants of a wide range of industries. The lines are likely to be formed one hour prior to the event\, so applicants are advised to arrive early. \nMore information on the event website at https://www.besthirecareerfairs.com/eventer/job-fair-in-los-angeles-april-2-2020/edate/2020-04-02 \nShare this:FacebookLinkedInWhatsAppPocketPrintPinterestRedditTumblrTwitterTelegram
URL:https://jobfair.pro/event/best-hire-career-fair-los-angeles/
LOCATION:Holiday Inn Los Angeles\, 9901 South La Cienega Boulevard\, Los Angeles\, CA\, 90045\, United States
CATEGORIES:California
ATTACH;FMTTYPE=image/jpeg:https://jobfair.pro/wp-content/uploads/2020/01/los-angeles-skyline.jpg
END:VEVENT
END:VCALENDAR