BEGIN:VCALENDAR
VERSION:2.0
PRODID:-//Jobfair - ECPv6.2.3//NONSGML v1.0//EN
CALSCALE:GREGORIAN
METHOD:PUBLISH
X-WR-CALNAME:Jobfair
X-ORIGINAL-URL:https://jobfair.pro
X-WR-CALDESC:Events for Jobfair
REFRESH-INTERVAL;VALUE=DURATION:PT1H
X-Robots-Tag:noindex
X-PUBLISHED-TTL:PT1H
BEGIN:VTIMEZONE
TZID:America/New_York
BEGIN:DAYLIGHT
TZOFFSETFROM:-0500
TZOFFSETTO:-0400
TZNAME:EDT
DTSTART:20190310T070000
END:DAYLIGHT
BEGIN:STANDARD
TZOFFSETFROM:-0400
TZOFFSETTO:-0500
TZNAME:EST
DTSTART:20191103T060000
END:STANDARD
END:VTIMEZONE
BEGIN:VEVENT
DTSTART;TZID=America/New_York:20190408T180000
DTEND;TZID=America/New_York:20190408T210000
DTSTAMP:20260420T045354
CREATED:20190312T221332Z
LAST-MODIFIED:20190312T221415Z
UID:147-1554746400-1554757200@jobfair.pro
SUMMARY:NursingJobCafe.com Online Career Fair 2019
DESCRIPTION:In April 8th\, from 6PM to 9PM EST\, NursingJobCafe.com\, a portal dedicated to jobs for nurses and other medical professionals\, will be holding a nationwide virtual career fair for Family Practice\, Primary Care\, Internal Medicine and Hospitalist professionals. \nExhibitors and candidates alike can register on NursingJobCafe.com website. Below are the direct links: \n\nCandidates\nExhibitors\n\nThe event will be held on Brazen\, an online platform for virtual job fairs. Candidates will have the chance to engage in a previous chat and be interviewed online\, and will count on some software features to follow up properly. \nShare this:FacebookLinkedInWhatsAppPocketPrintPinterestRedditTumblrTwitterTelegram
URL:https://jobfair.pro/event/nursingjobcafe-com-online-career-fair-2019/
LOCATION:Online\, United States
CATEGORIES:Online
ATTACH;FMTTYPE=image/jpeg:https://jobfair.pro/wp-content/uploads/2019/03/woman-3187087_1280.jpg
END:VEVENT
END:VCALENDAR